Workbook

Sheet ISTRUZIONI
A2: Monitoraggio dei procedimenti disciplinari nei confronti del personale scolastico
A3: ISTRUZIONI PER LA COMPILAZIONE DELLE SCHEDE
A5: Si invita a seguire attentamente le istruzioni prima di iniziare la compilazione delle schede.
A7: Le celle delle schede sono programmate per cambiare automaticamente colore in funzione dei dati inseriti.
A8: Si invita pertanto a non utilizzare i comandi “copia” e “incolla” per l’inserimento dei dati nelle schede.
A9: Se, ciò nonostante, si decidesse di utilizzare i suddetti comandi per l’inserimento dei dati nelle schede, si raccomanda di utilizzare solo ed esclusivamente il comando “incolla valori” a seguito dell’attivazione del comando “copia”, al fine di non alterare la funzionalità delle celle programmate per il cambio automatico del colore.
A11: Qualora il numero di procedimenti fosse pari a 0 (zero), l’ufficio rilevatore dovrà comunque compilare la scheda, limitandosi ad inserire il nome dell’ufficio, e trasmettere comunque il file Excel al competente ufficio aggregatore unitamente alla sempre necessaria nota accompagnatoria.
A14: Definizione degli uffici
A15: È definito “Ufficio rilevatore” qualsiasi ufficio partecipi alla rilevazione dei dati finalizzata al monitoraggio in corso.
A16: Ogni Istituzione scolastica è da considerarsi “Ufficio rilevatore”.
A17: È definito “Ufficio aggregatore territoriale” l’Ambito territoriale provinciale.
A18: È definito “Ufficio aggregatore regionale” l’Ufficio scolastico regionale. In questa categoria si intendono compresi gli uffici competenti in materia di Istruzione della Regione Autonoma della Valle d’Aosta, della Provincia Autonoma di Bolzano e della Provincia Autonoma di Trento.
... A94: Essa contiene un elenco parziale degli uffici rilevatori/aggregatori dal quale è possibile copiare il nome da attribuire al file in formato Excel prima della trasmissione.

Sheet Procedimenti rilevati
A2: =Intestazioni!C2 -> Ufficio rilevatore: | N2: Riepilogo / Verifica congruità dati inseriti | T2: Test | AA2: Conteggio | AC2: Media | AG2: Test
A3: =Uffici!F2 -> Monitoraggio anno scolastico 2025/2026 (procedimenti disciplinari dal 1° settembre 2025 al 31 agosto 2026) | N3: Differenza tra Procedimenti attivati e Procedimenti conclusi La motivazione dello scostamento dal valore "0" (zero) deve essere riportata nella nota accompagnatoria | O3: Riepilogo | R3: Allineamento tra Numero dei Procedimenti conclusi e Numero dei Provvedimenti adottati La presenza di un valore numerico in questa colonna segnala valori non allineati. Nel caso, verificare i valori digitati nella colonna "Procedimenti conclusi" e nelle colonne del quadro "Provvedimenti adottati" | T3: O+P+Q / 3 | U3: Proc. Attivati = Proc. Conclusi | V3: Proc. Conclusi = Provv. Adottati | W3: TEST Licenziamenti | X3: TEST Sospensioni 1 | Y3: TEST Sospensioni 2 | Z3: TEST Sospensioni 3 | AA3: N. Sopensioni | AB3: N. Licenziamenti | AC3: Media Penale non presente | AD3: Media Penale | AE3: Media Conclusivo non presente | AF3: Media Conclusivo | AG3: Test Dati non presenti/Congruo/0
O4: ="Procedimenti disciplinari A.S. "&Uffici!B3&"/"&Uffici!C3 -> Procedimenti disciplinari A.S. 2025/2026 | P4: Procedimenti conclusi | Q4: Provvedimenti adottati
A5: =Intestazioni!C3 -> TIPOLOGIA DI PERSONALE SOTTOPOSTO A PROCEDIMENTO DISCIPLINARE | B5: =Intestazioni!C4 -> Procedimenti disciplinari | H5: =Intestazioni!C5 -> Provvedimenti adottati
B6: =Intestazioni!C6 -> Procedimenti disciplinari A.S. 2025/2026 | C6: =Intestazioni!C7 -> Procedimenti sospesi per contestuale avvio di procedimento penale | D6: =Intestazioni!C8 -> Media dei giorni tra la data della contestazione degli addebiti e quella dell'eventuale sospensione per avvio del procedimento penale | E6: =Intestazioni!C9 -> Procedimenti conclusi | F6: =Intestazioni!C10 -> Media dei giorni di durata dei procedimenti (dalla data della contestazione alla data del provvedimento conclusivo) | H6: =Intestazioni!C11 -> Sanzioni di minore entità (inferiori alla sospensione dal servizio/insegnamento) | I6: =Intestazioni!C12 -> Sanzioni di sospensione dal servizio/insegnamento fino a 10 giorni | J6: =Intestazioni!C13 -> Sanzioni di maggiore entità (dalla sospensione dal servizio/insegnamento per più di 10 gg. in poi, esclusi i LICENZIAMENTI ) | K6: =Intestazioni!C14 -> Licenziamenti | L6: =Intestazioni!C15 -> Archiviazione/proscioglimento
A7: =Intestazioni!C16 -> Dirigenti scolastici e Presidi incaricati | G7: 0 | N7: =(B7-E7)-C7 -> 0 | O7: =B7 -> 0 | P7: =SUM(E7) -> 0 | Q7: =SUM(H7:L7) -> 0 | R7: =IF(B7+C7+E7+Q7=0,"Dati non presenti",IF(O7=SUM((O7+P7+Q7)/3),IF(P7=Q7,"Congruo",SUM(ABS(N7))),IF(V7=0,"Congruo",SUM(ABS(N7))))) -> Dati non presenti | T7: =SUM(O7:Q7)/3 -> 0 | U7: =IF(N7=0,0,ABS(N7)) -> 0 | V7: =IF(P7=Q7,0,1) -> 0 | W7: =IF(K7=0,"N",IF(K7<>"","S","N")) -> N | X7: =IF(I7=0,0,IF(I7<>"",1,0)) -> 0 | Y7: =IF(J7=0,0,IF(J7<>"",1,0)) -> 0 | Z7: =X7+Y7 -> 0 | AA7: =I7+J7 -> 0 | AB7: =K7 -> 0 | AC7: =IF($E7<>0,IF($C7<>0,IF(D7<>0,0,1),0),0) -> 0 | AD7: =IF(D7<>0,D7,"") | AE7: =IF($E7<>0,IF(F7<>0,0,1),0) -> 0 | AF7: =IF(F7<>0,F7,"") | AG7: =IF(R7="Dati non presenti",0,IF(R7="Congruo",1,IF(R7=0,1,R7))) -> 0
A8: =Intestazioni!C17 -> 0 | N8: =(B8-E8)-C8 -> 0 | O8: =B8 -> 0 | P8: =SUM(E8) -> 0 | Q8: =SUM(H8:L8) -> 0 | R8: =IF(B8+C8+E8+Q8=0,"Dati non presenti",IF(O8=SUM((O8+P8+Q8)/3),IF(P8=Q8,"Congruo",SUM(ABS(N8))),IF(V8=0,"Congruo",SUM(ABS(N8))))) -> Dati non presenti | T8: =SUM(O8:Q8)/3 -> 0 | U8: =IF(N8=0,0,ABS(N8)) -> 0 | V8: =IF(P8=Q8,0,1) -> 0 | W8: =IF(K8=0,"N",IF(K8<>"","S","N")) -> N | X8: =IF(I8=0,0,IF(I8<>"",1,0)) -> 0 | Y8: =IF(J8=0,0,IF(J8<>"",1,0)) -> 0 | Z8: =X8+Y8 -> 0 | AA8: =I8+J8 -> 0 | AB8: =K8 -> 0 | AC8: =IF($E8<>0,IF($C8<>0,IF(D8<>0,0,1),0),0) -> 0 | AD8: =IF(D8<>0,D8,"") | AE8: =IF($E8<>0,IF(F8<>0,0,1),0) -> 0 | AF8: =IF(F8<>0,F8,"") | AG8: =IF(R8="Dati non presenti",0,IF(R8="Congruo",1,IF(R8=0,1,R8))) -> 0
T9: =SUM(O9:Q9)/3 -> 0 | U9: =IF(N9=0,0,ABS(N9)) -> 0 | V9: =IF(P9=Q9,0,1) -> 0 | AC9: 0 | AE9: 0
A10: =Intestazioni!C18 -> Docenti di ruolo | T10: =SUM(O10:Q10)/3 -> 0 | U10: =IF(N10=0,0,ABS(N10)) -> 0 | V10: =IF(P10=Q10,0,1) -> 0 | AC10: 0 | AE10: 0
A11: =Intestazioni!C19 -> Scuola dell'infanzia, primaria e personale educativo | N11: =(B11-E11)-C11 -> 0 | O11: =B11 -> 0 | P11: =SUM(E11) -> 0 | Q11: =SUM(H11:L11) -> 0 | R11: =IF(B11+C11+E11+Q11=0,"Dati non presenti",IF(O11=SUM((O11+P11+Q11)/3),IF(P11=Q11,"Congruo",SUM(ABS(N11))),IF(V11=0,"Congruo",SUM(ABS(N11))))) -> Dati non presenti | T11: =SUM(O11:Q11)/3 -> 0 | U11: =IF(N11=0,0,ABS(N11)) -> 0 | V11: =IF(P11=Q11,0,1) -> 0 | W11: =IF(K11=0,"N",IF(K11<>"","S","N")) -> N | X11: =IF(I11=0,0,IF(I11<>"",1,0)) -> 0 | Y11: =IF(J11=0,0,IF(J11<>"",1,0)) -> 0 | Z11: =X11+Y11 -> 0 | AA11: =I11+J11 -> 0 | AB11: =K11 -> 0 | AC11: =IF($E11<>0,IF($C11<>0,IF(D11<>0,0,1),0),0) -> 0 | AD11: =IF(D11<>0,D11,"") | AE11: =IF($E11<>0,IF(F11<>0,0,1),0) -> 0 | AF11: =IF(F11<>0,F11,"") | AG11: =IF(R11="Dati non presenti",0,IF(R11="Congruo",1,IF(R11=0,1,R11))) -> 0
A12: =Intestazioni!C20 -> Scuola secondaria di I grado | N12: =(B12-E12)-C12 -> 0 | O12: =B12 -> 0 | P12: =SUM(E12) -> 0 | Q12: =SUM(H12:L12) -> 0 | R12: =IF(B12+C12+E12+Q12=0,"Dati non presenti",IF(O12=SUM((O12+P12+Q12)/3),IF(P12=Q12,"Congruo",SUM(ABS(N12))),IF(V12=0,"Congruo",SUM(ABS(N12))))) -> Dati non presenti | T12: =SUM(O12:Q12)/3 -> 0 | U12: =IF(N12=0,0,ABS(N12)) -> 0 | V12: =IF(P12=Q12,0,1) -> 0 | W12: =IF(K12=0,"N",IF(K12<>"","S","N")) -> N | X12: =IF(I12=0,0,IF(I12<>"",1,0)) -> 0 | Y12: =IF(J12=0,0,IF(J12<>"",1,0)) -> 0 | Z12: =X12+Y12 -> 0 | AA12: =I12+J12 -> 0 | AB12: =K12 -> 0 | AC12: =IF($E12<>0,IF($C12<>0,IF(D12<>0,0,1),0),0) -> 0 | AD12: =IF(D12<>0,D12,"") | AE12: =IF($E12<>0,IF(F12<>0,0,1),0) -> 0 | AF12: =IF(F12<>0,F12,"") | AG12: =IF(R12="Dati non presenti",0,IF(R12="Congruo",1,IF(R12=0,1,R12))) -> 0
A13: =Intestazioni!C21 -> Scuola secondaria di II grado | N13: =(B13-E13)-C13 -> 0 | O13: =B13 -> 0 | P13: =SUM(E13) -> 0 | Q13: =SUM(H13:L13) -> 0 | R13: =IF(B13+C13+E13+Q13=0,"Dati non presenti",IF(O13=SUM((O13+P13+Q13)/3),IF(P13=Q13,"Congruo",SUM(ABS(N13))),IF(V13=0,"Congruo",SUM(ABS(N13))))) -> Dati non presenti | T13: =SUM(O13:Q13)/3 -> 0 | U13: =IF(N13=0,0,ABS(N13)) -> 0 | V13: =IF(P13=Q13,0,1) -> 0 | W13: =IF(K13=0,"N",IF(K13<>"","S","N")) -> N | X13: =IF(I13=0,0,IF(I13<>"",1,0)) -> 0 | Y13: =IF(J13=0,0,IF(J13<>"",1,0)) -> 0 | Z13: =X13+Y13 -> 0 | AA13: =I13+J13 -> 0 | AB13: =K13 -> 0 | AC13: =IF($E13<>0,IF($C13<>0,IF(D13<>0,0,1),0),0) -> 0 | AD13: =IF(D13<>0,D13,"") | AE13: =IF($E13<>0,IF(F13<>0,0,1),0) -> 0 | AF13: =IF(F13<>0,F13,"") | AG13: =IF(R13="Dati non presenti",0,IF(R13="Congruo",1,IF(R13=0,1,R13))) -> 0
A14: =Intestazioni!C22 -> Insegnanti tecnico pratici | N14: =(B14-E14)-C14 -> 0 | O14: =B14 -> 0 | P14: =SUM(E14) -> 0 | Q14: =SUM(H14:L14) -> 0 | R14: =IF(B14+C14+E14+Q14=0,"Dati non presenti",IF(O14=SUM((O14+P14+Q14)/3),IF(P14=Q14,"Congruo",SUM(ABS(N14))),IF(V14=0,"Congruo",SUM(ABS(N14))))) -> Dati non presenti | T14: =SUM(O14:Q14)/3 -> 0 | U14: =IF(N14=0,0,ABS(N14)) -> 0 | V14: =IF(P14=Q14,0,1) -> 0 | W14: =IF(K14=0,"N",IF(K14<>"","S","N")) -> N | X14: =IF(I14=0,0,IF(I14<>"",1,0)) -> 0 | Y14: =IF(J14=0,0,IF(J14<>"",1,0)) -> 0 | Z14: =X14+Y14 -> 0 | AA14: =I14+J14 -> 0 | AB14: =K14 -> 0 | AC14: =IF($E14<>0,IF($C14<>0,IF(D14<>0,0,1),0),0) -> 0 | AD14: =IF(D14<>0,D14,"") | AE14: =IF($E14<>0,IF(F14<>0,0,1),0) -> 0 | AF14: =IF(F14<>0,F14,"") | AG14: =IF(R14="Dati non presenti",0,IF(R14="Congruo",1,IF(R14=0,1,R14))) -> 0
A15: =Intestazioni!C23 -> totale | B15: =SUM(B11:B14) -> 0 | C15: =SUM(C11:C14) -> 0 | D15: =IF((D11+D12+D13+D14=0),0,AVERAGE(D11:D14)) -> 0 | E15: =SUM(E11:E14) -> 0 | F15: =IF((F11+F12+F13+F14=0),0,AVERAGE(F11:F14)) -> 0 | H15: =SUM(H11:H14) -> 0 | I15: =SUM(I11:I14) -> 0 | J15: =SUM(J11:J14) -> 0 | K15: =SUM(K11:K14) -> 0 | L15: =SUM(L11:L14) -> 0 | T15: =SUM(O15:Q15)/3 -> 0 | U15: =IF(N15=0,0,ABS(N15)) -> 0 | V15: =IF(P15=Q15,0,1) -> 0 | AC15: 0 | AE15: 0
T16: =SUM(O16:Q16)/3 -> 0 | U16: =IF(N16=0,0,ABS(N16)) -> 0 | V16: =IF(P16=Q16,0,1) -> 0 | AC16: 0 | AE16: 0
A17: =Intestazioni!C25 -> Docenti a tempo determinato | T17: =SUM(O17:Q17)/3 -> 0 | U17: =IF(N17=0,0,ABS(N17)) -> 0 | V17: =IF(P17=Q17,0,1) -> 0 | AC17: 0 | AE17: 0
A18: =Intestazioni!C19 -> Scuola dell'infanzia, primaria e personale educativo | N18: =(B18-E18)-C18 -> 0 | O18: =B18 -> 0 | P18: =SUM(E18) -> 0 | Q18: =SUM(H18:L18) -> 0 | R18: =IF(B18+C18+E18+Q18=0,"Dati non presenti",IF(O18=SUM((O18+P18+Q18)/3),IF(P18=Q18,"Congruo",SUM(ABS(N18))),IF(V18=0,"Congruo",SUM(ABS(N18))))) -> Dati non presenti | T18: =SUM(O18:Q18)/3 -> 0 | U18: =IF(N18=0,0,ABS(N18)) -> 0 | V18: =IF(P18=Q18,0,1) -> 0 | W18: =IF(K18=0,"N",IF(K18<>"","S","N")) -> N | X18: =IF(I18=0,0,IF(I18<>"",1,0)) -> 0 | Y18: =IF(J18=0,0,IF(J18<>"",1,0)) -> 0 | Z18: =X18+Y18 -> 0 | AA18: =I18+J18 -> 0 | AB18: =K18 -> 0 | AC18: =IF($E18<>0,IF($C18<>0,IF(D18<>0,0,1),0),0) -> 0 | AD18: =IF(D18<>0,D18,"") | AE18: =IF($E18<>0,IF(F18<>0,0,1),0) -> 0 | AF18: =IF(F18<>0,F18,"") | AG18: =IF(R18="Dati non presenti",0,IF(R18="Congruo",1,IF(R18=0,1,R18))) -> 0
A19: =Intestazioni!C20 -> Scuola secondaria di I grado | N19: =(B19-E19)-C19 -> 0 | O19: =B19 -> 0 | P19: =SUM(E19) -> 0 | Q19: =SUM(H19:L19) -> 0 | R19: =IF(B19+C19+E19+Q19=0,"Dati non presenti",IF(O19=SUM((O19+P19+Q19)/3),IF(P19=Q19,"Congruo",SUM(ABS(N19))),IF(V19=0,"Congruo",SUM(ABS(N19))))) -> Dati non presenti | T19: =SUM(O19:Q19)/3 -> 0 | U19: =IF(N19=0,0,ABS(N19)) -> 0 | V19: =IF(P19=Q19,0,1) -> 0 | W19: =IF(K19=0,"N",IF(K19<>"","S","N")) -> N | X19: =IF(I19=0,0,IF(I19<>"",1,0)) -> 0 | Y19: =IF(J19=0,0,IF(J19<>"",1,0)) -> 0 | Z19: =X19+Y19 -> 0 | AA19: =I19+J19 -> 0 | AB19: =K19 -> 0 | AC19: =IF($E19<>0,IF($C19<>0,IF(D19<>0,0,1),0),0) -> 0 | AD19: =IF(D19<>0,D19,"") | AE19: =IF($E19<>0,IF(F19<>0,0,1),0) -> 0 | AF19: =IF(F19<>0,F19,"") | AG19: =IF(R19="Dati non presenti",0,IF(R19="Congruo",1,IF(R19=0,1,R19))) -> 0
A20: =Intestazioni!C21 -> Scuola secondaria di II grado | N20: =(B20-E20)-C20 -> 0 | O20: =B20 -> 0 | P20: =SUM(E20) -> 0 | Q20: =SUM(H20:L20) -> 0 | R20: =IF(B20+C20+E20+Q20=0,"Dati non presenti",IF(O20=SUM((O20+P20+Q20)/3),IF(P20=Q20,"Congruo",SUM(ABS(N20))),IF(V20=0,"Congruo",SUM(ABS(N20))))) -> Dati non presenti | T20: =SUM(O20:Q20)/3 -> 0 | U20: =IF(N20=0,0,ABS(N20)) -> 0 | V20: =IF(P20=Q20,0,1) -> 0 | W20: =IF(K20=0,"N",IF(K20<>"","S","N")) -> N | X20: =IF(I20=0,0,IF(I20<>"",1,0)) -> 0 | Y20: =IF(J20=0,0,IF(J20<>"",1,0)) -> 0 | Z20: =X20+Y20 -> 0 | AA20: =I20+J20 -> 0 | AB20: =K20 -> 0 | AC20: =IF($E20<>0,IF($C20<>0,IF(D20<>0,0,1),0),0) -> 0 | AD20: =IF(D20<>0,D20,"") | AE20: =IF($E20<>0,IF(F20<>0,0,1),0) -> 0 | AF20: =IF(F20<>0,F20,"") | AG20: =IF(R20="Dati non presenti",0,IF(R20="Congruo",1,IF(R20=0,1,R20))) -> 0
A21: =Intestazioni!C22 -> Insegnanti tecnico pratici | N21: =(B21-E21)-C21 -> 0 | O21: =B21 -> 0 | P21: =SUM(E21) -> 0 | Q21: =SUM(H21:L21) -> 0 | R21: =IF(B21+C21+E21+Q21=0,"Dati non presenti",IF(O21=SUM((O21+P21+Q21)/3),IF(P21=Q21,"Congruo",SUM(ABS(N21))),IF(V21=0,"Congruo",SUM(ABS(N21))))) -> Dati non presenti | T21: =SUM(O21:Q21)/3 -> 0 | U21: =IF(N21=0,0,ABS(N21)) -> 0 | V21: =IF(P21=Q21,0,1) -> 0 | W21: =IF(K21=0,"N",IF(K21<>"","S","N")) -> N | X21: =IF(I21=0,0,IF(I21<>"",1,0)) -> 0 | Y21: =IF(J21=0,0,IF(J21<>"",1,0)) -> 0 | Z21: =X21+Y21 -> 0 | AA21: =I21+J21 -> 0 | AB21: =K21 -> 0 | AC21: =IF($E21<>0,IF($C21<>0,IF(D21<>0,0,1),0),0) -> 0 | AD21: =IF(D21<>0,D21,"") | AE21: =IF($E21<>0,IF(F21<>0,0,1),0) -> 0 | AF21: =IF(F21<>0,F21,"") | AG21: =IF(R21="Dati non presenti",0,IF(R21="Congruo",1,IF(R21=0,1,R21))) -> 0
A22: =Intestazioni!C23 -> totale | B22: =SUM(B18:B21) -> 0 | C22: =SUM(C18:C21) -> 0 | D22: =IF((D18+D19+D20+D21=0),0,AVERAGE(D18:D21)) -> 0 | E22: =SUM(E18:E21) -> 0 | F22: =IF((F18+F19+F20+F21=0),0,AVERAGE(F18:F21)) -> 0 | H22: =SUM(H18:H21) -> 0 | I22: =SUM(I18:I21) -> 0 | J22: =SUM(J18:J21) -> 0 | K22: =SUM(K18:K21) -> 0 | L22: =SUM(L18:L21) -> 0 | T22: =SUM(O22:Q22)/3 -> 0 | U22: =IF(N22=0,0,ABS(N22)) -> 0 | V22: =IF(P22=Q22,0,1) -> 0 | AC22: 0 | AE22: 0
T23: =SUM(O23:Q23)/3 -> 0 | U23: =IF(N23=0,0,ABS(N23)) -> 0 | V23: =IF(P23=Q23,0,1) -> 0 | AC23: 0 | AE23: 0
T24: =SUM(O24:Q24)/3 -> 0 | U24: =IF(N24=0,0,ABS(N24)) -> 0 | V24: =IF(P24=Q24,0,1) -> 0 | AC24: 0 | AE24: 0
A25: =Intestazioni!C26 -> A.T.A. di ruolo | T25: =SUM(O25:Q25)/3 -> 0 | U25: =IF(N25=0,0,ABS(N25)) -> 0 | V25: =IF(P25=Q25,0,1) -> 0 | AC25: 0 | AE25: 0
A26: =Intestazioni!C27 -> Funzionari ed Elevata qualificazione EX DSGA 1) | N26: =(B26-E26)-C26 -> 0 | O26: =B26 -> 0 | P26: =SUM(E26) -> 0 | Q26: =SUM(H26:L26) -> 0 | R26: =IF(B26+C26+E26+Q26=0,"Dati non presenti",IF(O26=SUM((O26+P26+Q26)/3),IF(P26=Q26,"Congruo",SUM(ABS(N26))),IF(V26=0,"Congruo",SUM(ABS(N26))))) -> Dati non presenti | T26: =SUM(O26:Q26)/3 -> 0 | U26: =IF(N26=0,0,ABS(N26)) -> 0 | V26: =IF(P26=Q26,0,1) -> 0 | W26: =IF(K26=0,"N",IF(K26<>"","S","N")) -> N | X26: =IF(I26=0,0,IF(I26<>"",1,0)) -> 0 | Y26: =IF(J26=0,0,IF(J26<>"",1,0)) -> 0 | Z26: =X26+Y26 -> 0 | AA26: =I26+J26 -> 0 | AB26: =K26 -> 0 | AC26: =IF($E26<>0,IF($C26<>0,IF(D26<>0,0,1),0),0) -> 0 | AD26: =IF(D26<>0,D26,"") | AE26: =IF($E26<>0,IF(F26<>0,0,1),0) -> 0 | AF26: =IF(F26<>0,F26,"") | AG26: =IF(R26="Dati non presenti",0,IF(R26="Congruo",1,IF(R26=0,1,R26))) -> 0
A27: =Intestazioni!C28 -> Assistenti amministrativi e tecnici 2) | N27: =(B27-E27)-C27 -> 0 | O27: =B27 -> 0 | P27: =SUM(E27) -> 0 | Q27: =SUM(H27:L27) -> 0 | R27: =IF(B27+C27+E27+Q27=0,"Dati non presenti",IF(O27=SUM((O27+P27+Q27)/3),IF(P27=Q27,"Congruo",SUM(ABS(N27))),IF(V27=0,"Congruo",SUM(ABS(N27))))) -> Dati non presenti | T27: =SUM(O27:Q27)/3 -> 0 | U27: =IF(N27=0,0,ABS(N27)) -> 0 | V27: =IF(P27=Q27,0,1) -> 0 | W27: =IF(K27=0,"N",IF(K27<>"","S","N")) -> N | X27: =IF(I27=0,0,IF(I27<>"",1,0)) -> 0 | Y27: =IF(J27=0,0,IF(J27<>"",1,0)) -> 0 | Z27: =X27+Y27 -> 0 | AA27: =I27+J27 -> 0 | AB27: =K27 -> 0 | AC27: =IF($E27<>0,IF($C27<>0,IF(D27<>0,0,1),0),0) -> 0 | AD27: =IF(D27<>0,D27,"") | AE27: =IF($E27<>0,IF(F27<>0,0,1),0) -> 0 | AF27: =IF(F27<>0,F27,"") | AG27: =IF(R27="Dati non presenti",0,IF(R27="Congruo",1,IF(R27=0,1,R27))) -> 0
A28: =Intestazioni!C29 -> Collaboratori scolastici e Operatori dei servizi agrari | N28: =(B28-E28)-C28 -> 0 | O28: =B28 -> 0 | P28: =SUM(E28) -> 0 | Q28: =SUM(H28:L28) -> 0 | R28: =IF(B28+C28+E28+Q28=0,"Dati non presenti",IF(O28=SUM((O28+P28+Q28)/3),IF(P28=Q28,"Congruo",SUM(ABS(N28))),IF(V28=0,"Congruo",SUM(ABS(N28))))) -> Dati non presenti | T28: =SUM(O28:Q28)/3 -> 0 | U28: =IF(N28=0,0,ABS(N28)) -> 0 | V28: =IF(P28=Q28,0,1) -> 0 | W28: =IF(K28=0,"N",IF(K28<>"","S","N")) -> N | X28: =IF(I28=0,0,IF(I28<>"",1,0)) -> 0 | Y28: =IF(J28=0,0,IF(J28<>"",1,0)) -> 0 | Z28: =X28+Y28 -> 0 | AA28: =I28+J28 -> 0 | AB28: =K28 -> 0 | AC28: =IF($E28<>0,IF($C28<>0,IF(D28<>0,0,1),0),0) -> 0 | AD28: =IF(D28<>0,D28,"") | AE28: =IF($E28<>0,IF(F28<>0,0,1),0) -> 0 | AF28: =IF(F28<>0,F28,"") | AG28: =IF(R28="Dati non presenti",0,IF(R28="Congruo",1,IF(R28=0,1,R28))) -> 0
A29: =Intestazioni!C23 -> totale | B29: =SUM(B26:B28) -> 0 | C29: =SUM(C26:C28) -> 0 | D29: =IF((D26+D27+D28=0),0,AVERAGE(D26:D28)) -> 0 | E29: =SUM(E26:E28) -> 0 | F29: =IF((F26+F27+F28=0),0,AVERAGE(F26:F28)) -> 0 | H29: =SUM(H26:H28) -> 0 | I29: =SUM(I26:I28) -> 0 | J29: =SUM(J26:J28) -> 0 | K29: =SUM(K26:K28) -> 0 | L29: =SUM(L26:L28) -> 0 | R29: =IF(B29+C29+E29+Q29=0,"Dati non presenti",IF(O29=SUM((O29+P29+Q29)/3),IF(P29=Q29,"Congruo",SUM(ABS(N29))),IF(V29=0,"Congruo",SUM(ABS(N29))))) -> Dati non presenti | T29: =SUM(O29:Q29)/3 -> 0 | U29: =IF(N29=0,0,ABS(N29)) -> 0 | V29: =IF(P29=Q29,0,1) -> 0 | AC29: 0 | AE29: 0
T30: =SUM(O30:Q30)/3 -> 0 | U30: =IF(N30=0,0,ABS(N30)) -> 0 | V30: =IF(P30=Q30,0,1) -> 0 | AC30: 0 | AE30: 0
A31: =Intestazioni!C30 -> A.T.A. a tempo determinato | T31: =SUM(O31:Q31)/3 -> 0 | U31: =IF(N31=0,0,ABS(N31)) -> 0 | V31: =IF(P31=Q31,0,1) -> 0 | AC31: 0 | AE31: 0
A32: =A26 -> Funzionari ed Elevata qualificazione EX DSGA 1) | N32: =(B32-E32)-C32 -> 0 | O32: =B32 -> 0 | P32: =SUM(E32) -> 0 | Q32: =SUM(H32:L32) -> 0 | R32: =IF(B32+C32+E32+Q32=0,"Dati non presenti",IF(O32=SUM((O32+P32+Q32)/3),IF(P32=Q32,"Congruo",SUM(ABS(N32))),IF(V32=0,"Congruo",SUM(ABS(N32))))) -> Dati non presenti | T32: =SUM(O32:Q32)/3 -> 0 | U32: =IF(N32=0,0,ABS(N32)) -> 0 | V32: =IF(P32=Q32,0,1) -> 0 | W32: =IF(K32=0,"N",IF(K32<>"","S","N")) -> N | X32: =IF(I32=0,0,IF(I32<>"",1,0)) -> 0 | Y32: =IF(J32=0,0,IF(J32<>"",1,0)) -> 0 | Z32: =X32+Y32 -> 0 | AA32: =I32+J32 -> 0 | AB32: =K32 -> 0 | AC32: =IF($E32<>0,IF($C32<>0,IF(D32<>0,0,1),0),0) -> 0 | AD32: =IF(D32<>0,D32,"") | AE32: =IF($E32<>0,IF(F32<>0,0,1),0) -> 0 | AF32: =IF(F32<>0,F32,"") | AG32: =IF(R32="Dati non presenti",0,IF(R32="Congruo",1,IF(R32=0,1,R32))) -> 0
A33: =A27 -> Assistenti amministrativi e tecnici 2) | N33: =(B33-E33)-C33 -> 0 | O33: =B33 -> 0 | P33: =SUM(E33) -> 0 | Q33: =SUM(H33:L33) -> 0 | R33: =IF(B33+C33+E33+Q33=0,"Dati non presenti",IF(O33=SUM((O33+P33+Q33)/3),IF(P33=Q33,"Congruo",SUM(ABS(N33))),IF(V33=0,"Congruo",SUM(ABS(N33))))) -> Dati non presenti | T33: =SUM(O33:Q33)/3 -> 0 | U33: =IF(N33=0,0,ABS(N33)) -> 0 | V33: =IF(P33=Q33,0,1) -> 0 | W33: =IF(K33=0,"N",IF(K33<>"","S","N")) -> N | X33: =IF(I33=0,0,IF(I33<>"",1,0)) -> 0 | Y33: =IF(J33=0,0,IF(J33<>"",1,0)) -> 0 | Z33: =X33+Y33 -> 0 | AA33: =I33+J33 -> 0 | AB33: =K33 -> 0 | AC33: =IF($E33<>0,IF($C33<>0,IF(D33<>0,0,1),0),0) -> 0 | AD33: =IF(D33<>0,D33,"") | AE33: =IF($E33<>0,IF(F33<>0,0,1),0) -> 0 | AF33: =IF(F33<>0,F33,"") | AG33: =IF(R33="Dati non presenti",0,IF(R33="Congruo",1,IF(R33=0,1,R33))) -> 0
A34: =A28 -> Collaboratori scolastici e Operatori dei servizi agrari | N34: =(B34-E34)-C34 -> 0 | O34: =B34 -> 0 | P34: =SUM(E34) -> 0 | Q34: =SUM(H34:L34) -> 0 | R34: =IF(B34+C34+E34+Q34=0,"Dati non presenti",IF(O34=SUM((O34+P34+Q34)/3),IF(P34=Q34,"Congruo",SUM(ABS(N34))),IF(V34=0,"Congruo",SUM(ABS(N34))))) -> Dati non presenti | T34: =SUM(O34:Q34)/3 -> 0 | U34: =IF(N34=0,0,ABS(N34)) -> 0 | V34: =IF(P34=Q34,0,1) -> 0 | W34: =IF(K34=0,"N",IF(K34<>"","S","N")) -> N | X34: =IF(I34=0,0,IF(I34<>"",1,0)) -> 0 | Y34: =IF(J34=0,0,IF(J34<>"",1,0)) -> 0 | Z34: =X34+Y34 -> 0 | AA34: =I34+J34 -> 0 | AB34: =K34 -> 0 | AC34: =IF($E34<>0,IF($C34<>0,IF(D34<>0,0,1),0),0) -> 0 | AD34: =IF(D34<>0,D34,"") | AE34: =IF($E34<>0,IF(F34<>0,0,1),0) -> 0 | AF34: =IF(F34<>0,F34,"") | AG34: =IF(R34="Dati non presenti",0,IF(R34="Congruo",1,IF(R34=0,1,R34))) -> 0
A35: =Intestazioni!C23 -> totale | B35: =SUM(B32:B34) -> 0 | C35: =SUM(C32:C34) -> 0 | D35: =IF((D32+D33+D34=0),0,AVERAGE(D32:D34)) -> 0 | E35: =SUM(E32:E34) -> 0 | F35: =IF((F32+F33+F34=0),0,AVERAGE(F32:F34)) -> 0 | H35: =SUM(H32:H34) -> 0 | I35: =SUM(I32:I34) -> 0 | J35: =SUM(J32:J34) -> 0 | K35: =SUM(K32:K34) -> 0 | L35: =SUM(L32:L34) -> 0 | N35: =IF(U36>0,"Numero scostamenti rilevati nella scheda →","") | R35: =IF(U36=0,"",U36) | T35: =COUNTIF(T7:T34,"<>0") -> 0 | U35: =COUNTIF(U7:U34,"<>0") -> 0 | V35: =COUNTIF(V7:V34,"<>0") -> 0 | AC35: =COUNTIF(AC7:AC34,"<>0") -> 0 | AD35: =IFERROR(AVERAGE(AD7:AD34),0) -> 0 | AE35: =COUNTIF(AE7:AE34,"<>0") -> 0 | AF35: =IFERROR(AVERAGE(AF7:AF34),0) -> 0 | AG35: =SUM(AG7:AG34) -> 0
D36: =IF(AC35<>0,"Media giorni non indicata in"&" "&AC35&" "&"voci","") | F36: =IF(AE35<>0,"Media giorni non indicata in"&" "&AE35&" "&"voci","") | N36: =IF(V35>0,"Numero incongruenze rilevate nella scheda →","") | R36: =IF(V35=0,"",V35) | U36: =SUM(U7:U34) -> 0
A37: =Intestazioni!C24 -> TOTALE | B37: =SUM(B7,B8,B15,B22,B29,B35) -> 0 | C37: =SUM(C7,C8,C15,C22,C29,C35) -> 0 | D37: =AD35 -> 0 | E37: =SUM(E7,E8,E15,E22,E29,E35) -> 0 | F37: =AF35 -> 0 | G37: =SUM(G7,G8,G15,G22,G29,G35) -> 0 | H37: =SUM(H7,H8,H15,H22,H29,H35) -> 0 | I37: =SUM(I7,I8,I15,I22,I29,I35) -> 0 | J37: =SUM(J7,J8,J15,J22,J29,J35) -> 0 | K37: =SUM(K7,K8,K15,K22,K29,K35) -> 0 | L37: =SUM(L7,L8,L15,L22,L29,L35) -> 0 | N37: A V V I S I | R37: Stato compilazione scheda "Procedimenti rilevati" | T37: =IF(U37<>0,"Rivedere i dati inseriti o motivare gli scostamenti nella nota accompagnatoria","") | U37: =SUM(R35:R36) -> 0 | V37: =SUM(O7:Q34) -> 0 | AD37: Test Dati | AG37: =IF(AG35>0,1,0) -> 0
A38: =Intestazioni!C34 -> C O M P I L A R E S O L O L E C E L L E D I C O L O R E C E L E S T E | N38: =IF(U35<>0,"Totale TIPOLOGIE DI PERSONALE con scostamenti → ","") | R38: =IF(U35<>0,U35,IF(V37=0,"Scheda non compilata",IF(V35=0,"Valori congrui",""))) -> Scheda non compilata | AD38: Test Ufficio rilevatore | AG38: =IF(D2="",0,2) -> 0
A39: =Intestazioni!C32 -> 1) Funzionari con incarico triennale di DSGA dal 01/09/2024 | D39: =Intestazioni!C33 -> 2) Assistente amministrativo, tecnico, nonché cuoco, infermiere e guardarobiere | N39: =T37 | R39: =IF(AG39=0,"Ufficio rilevatore non indicato",IF(AG39=1,"Ufficio rilevatore non indicato",IF(AG39=3,"","Nessun procedimento disciplinare da rilevare"))) -> Ufficio rilevatore non indicato | AD39: Test Dati + Uff. ril. | AG39: =SUM(AG37:AG38) -> 0

Sheet Infrazioni per sospensioni
A2: ='Procedimenti rilevati'!A2 -> Ufficio rilevatore: | D2: =IF('Procedimenti rilevati'!D2:L2="","",'Procedimenti rilevati'!D2:L2)
A3: Infrazioni per cui è stata comminata la SANZIONE DELLA SOSPENSIONE DAL SERVIZIO/INSEGNAMENTO
A5: Totale sanzioni SOSPENSIVE da dettagliare risultanti dalla somma dei valori indicati nelle celle "I37" e "J37" della scheda "Procedimenti disciplinari" | R5: =SUM('Procedimenti rilevati'!I37:J37) -> 0
A7: =Intestazioni!C35 -> TIPOLOGIA DI PERSONALE | B7: =Intestazioni!C42 -> Dirigenti scolastici e Presidi incaricati | C7: =Intestazioni!C43 -> 0 | D7: =Intestazioni!C44 -> DOCENTI DI RUOLO | H7: =Intestazioni!C45 -> DOCENTI TEMPO DETERMINATO | L7: =Intestazioni!C46 -> PERSONALE ATA DI RUOLO | O7: =Intestazioni!C47 -> PERSONALE ATA A TEMPO DETERMINATO | R7: =Intestazioni!C55 -> TOTALI
A8: =Intestazioni!C36 -> TIPOLOGIA DI INFRAZIONI | D8: =Intestazioni!C48 -> Scuola dell'infanzia, primaria e personale educativo | E8: =Intestazioni!C49 -> Scuola secondaria di I grado | F8: =Intestazioni!C50 -> Scuola secondaria di II grado | G8: =Intestazioni!C51 -> Insegnanti tecnico pratici | H8: =Intestazioni!C48 -> Scuola dell'infanzia, primaria e personale educativo | I8: =Intestazioni!C49 -> Scuola secondaria di I grado | J8: =Intestazioni!C50 -> Scuola secondaria di II grado | K8: =Intestazioni!C51 -> Insegnanti tecnico pratici | L8: =Intestazioni!C52 -> Funzionari ed Elevata qualificazione EX DSGA 1) | M8: =Intestazioni!C53 -> Assistenti amministrativi e tecnici 2) | N8: =Intestazioni!C54 -> Collaboratori scolastici e Operatori dei servizi agrari | O8: =Intestazioni!C52 -> Funzionari ed Elevata qualificazione EX DSGA 1) | P8: =Intestazioni!C53 -> Assistenti amministrativi e tecnici 2) | Q8: =Intestazioni!C54 -> Collaboratori scolastici e Operatori dei servizi agrari | R8: NUM. | S8: PERCENT.
A9: =Intestazioni!C37 -> per assenze dal servizio (ingiustificate, non comunicate nei termini prescritti, etc.) | R9: =SUM(B9:Q9) -> 0 | S9: =IF($R$5=0,0,(R9/$R$5)) -> 0
A10: =Intestazioni!C38 -> connesse a reati | R10: =SUM(B10:Q10) -> 0 | S10: =IF($R$5=0,0,(R10/$R$5)) -> 0
A11: =Intestazioni!C39 -> derivanti da attività extralavorative non autorizzate (doppio lavoro) | R11: =SUM(B11:Q11) -> 0 | S11: =IF($R$5=0,0,(R11/$R$5)) -> 0
A12: =Intestazioni!C40 -> derivanti da irreperibilità a visita fiscale | R12: =SUM(B12:Q12) -> 0 | S12: =IF($R$5=0,0,(R12/$R$5)) -> 0
A13: =Intestazioni!C41 -> derivanti da inosservanza di disposizioni di servizio, negligenza, comportamento non corretto verso superiori, colleghi e utenti | R13: =SUM(B13:Q13) -> 0 | S13: =IF($R$5=0,0,(R13/$R$5)) -> 0
A14: =Intestazioni!C55 -> TOTALI | B14: =SUM(B9:B13) -> 0 | C14: =SUM(C9:C13) -> 0 | D14: =SUM(D9:D13) -> 0 | E14: =SUM(E9:E13) -> 0 | F14: =SUM(F9:F13) -> 0 | G14: =SUM(G9:G13) -> 0 | H14: =SUM(H9:H13) -> 0 | I14: =SUM(I9:I13) -> 0 | ... S14: =SUM(S9:S13) -> 0
A15: =Intestazioni!C56 -> Totale da dettagliare | B15: ='Procedimenti rilevati'!$AA7 -> 0 | C15: ='Procedimenti rilevati'!$AA8 -> 0 | D15: ='Procedimenti rilevati'!$AA11 -> 0 | E15: ='Procedimenti rilevati'!$AA12 -> 0 | F15: ='Procedimenti rilevati'!$AA13 -> 0 | G15: ='Procedimenti rilevati'!$AA14 -> 0 | H15: ='Procedimenti rilevati'!$AA18 -> 0 | I15: ='Procedimenti rilevati'!$AA19 -> 0 | J15: ='Procedimenti rilevati'!$AA20 -> 0 | K15: ='Procedimenti rilevati'!$AA21 -> 0 | L15: ='Procedimenti rilevati'!$AA26 -> 0 | M15: ='Procedimenti rilevati'!$AA27 -> 0 | N15: ='Procedimenti rilevati'!$AA28 -> 0 | O15: ='Procedimenti rilevati'!$AA32 -> 0 | P15: ='Procedimenti rilevati'!$AA33 -> 0 | Q15: ='Procedimenti rilevati'!$AA34 -> 0 | R15: =V15 | U15: =SUM(B15:Q15) -> 0 | V15: =IF(R5=0,"",IF(R5=R14,IF(R16="Dati errati","Revisione necessaria",IF(R14=U15,"Valori congrui","Revisione necessaria")),"Revisione necessaria"))
B16: =IF(B14<>B15,"Dati errati","") | C16: =IF(C14<>C15,"Dati errati","") | D16: =IF(D14<>D15,"Dati errati","") | E16: =IF(E14<>E15,"Dati errati","") | F16: =IF(F14<>F15,"Dati errati","") | G16: =IF(G14<>G15,"Dati errati","") | H16: =IF(H14<>H15,"Dati errati","") | I16: =IF(I14<>I15,"Dati errati","") | ... Q16: =IF(Q14<>Q15,"Dati errati","") | R16: =MID(U16,1,11) | U16: =B16&C16&D16&E16&F16&G16&H16&I16&J16&K16&L16&M16&N16&O16&P16&Q16
A17: ='Procedimenti rilevati'!A38 -> C O M P I L A R E S O L O L E C E L L E D I C O L O R E C E L E S T E
A18: =Intestazioni!C32 -> 1) Funzionari con incarico triennale di DSGA dal 01/09/2024 | F18: =Intestazioni!C33 -> 2) Assistente amministrativo, tecnico, nonché cuoco, infermiere e guardarobiere

Sheet Infrazioni per licenziamenti
A2: ='Procedimenti rilevati'!A2 -> Ufficio rilevatore: | D2: =IF('Procedimenti rilevati'!D2:L2="","",'Procedimenti rilevati'!D2:L2)
A3: Infrazioni per cui è stata comminata la SANZIONE DEL LICENZIAMENTO
A5: Totale LICENZIAMENTI da dettagliare risultanti dal valore indicato nella cella "K37" della scheda "Procedimenti disciplinari" | R5: ='Procedimenti rilevati'!K37 -> 0
A7: =Intestazioni!C57 -> TIPOLOGIA DI PERSONALE | B7: =Intestazioni!C42 -> Dirigenti scolastici e Presidi incaricati | C7: =Intestazioni!C43 -> 0 | D7: =Intestazioni!C44 -> DOCENTI DI RUOLO | H7: =Intestazioni!C45 -> DOCENTI TEMPO DETERMINATO | L7: =Intestazioni!C46 -> PERSONALE ATA DI RUOLO | O7: =Intestazioni!C47 -> PERSONALE ATA A TEMPO DETERMINATO | R7: TOTALI
A8: =Intestazioni!C58 -> TIPOLOGIA DI INFRAZIONI | D8: =Intestazioni!C48 -> Scuola dell'infanzia, primaria e personale educativo | E8: =Intestazioni!C49 -> Scuola secondaria di I grado | F8: =Intestazioni!C50 -> Scuola secondaria di II grado | G8: =Intestazioni!C51 -> Insegnanti tecnico pratici | H8: =Intestazioni!C48 -> Scuola dell'infanzia, primaria e personale educativo | I8: =Intestazioni!C49 -> Scuola secondaria di I grado | J8: =Intestazioni!C50 -> Scuola secondaria di II grado | K8: =Intestazioni!C51 -> Insegnanti tecnico pratici | L8: =Intestazioni!C52 -> Funzionari ed Elevata qualificazione EX DSGA 1) | M8: =Intestazioni!C53 -> Assistenti amministrativi e tecnici 2) | N8: =Intestazioni!C54 -> Collaboratori scolastici e Operatori dei servizi agrari | O8: =Intestazioni!C52 -> Funzionari ed Elevata qualificazione EX DSGA 1) | P8: =Intestazioni!C53 -> Assistenti amministrativi e tecnici 2) | Q8: =Intestazioni!C54 -> Collaboratori scolastici e Operatori dei servizi agrari | R8: NUM. | S8: PERCENT.
A9: =Intestazioni!C59 -> per assenze dal servizio (ingiustificate, non comunicate nei termini prescritti, etc.) | R9: =SUM(B9:Q9) -> 0 | S9: =IF($R$5=0,0,(R9/$R$5)) -> 0
A10: =Intestazioni!C60 -> per falsa attestazione della presenza in servizio, art 55 quater, c. 1 | R10: =SUM(B10:Q10) -> 0 | S10: =IF($R$5=0,0,(R10/$R$5)) -> 0
A11: =Intestazioni!C61 -> per falsa attestazione della presenza in servizio accertata in flagranza, art. 55 quater, c. 3 bis | R11: =SUM(B11:Q11) -> 0 | S11: =IF($R$5=0,0,(R11/$R$5)) -> 0
A12: =Intestazioni!C62 -> connesse a reati | B12: =SUM(B13:B17) -> 0 | C12: =SUM(C13:C17) -> 0 | D12: =SUM(D13:D17) -> 0 | E12: =SUM(E13:E17) -> 0 | F12: =SUM(F13:F17) -> 0 | G12: =SUM(G13:G17) -> 0 | H12: =SUM(H13:H17) -> 0 | I12: =SUM(I13:I17) -> 0 | ... Q12: =SUM(Q13:Q17) -> 0 | R12: =SUM(B12:Q12) -> 0 | S12: =IF($R$5=0,0,(R12/$R$5)) -> 0
A13: =Intestazioni!C63 -> Reati comuni
A14: =Intestazioni!C64 -> Reati contro PA con o senza applicazione di pena accessoria della interdizione da pubblici uffici
A15: =Intestazioni!C65 -> Reati contro la persona, con esclusione dei reati contro minori
A16: =Intestazioni!C66 -> Reati contro minori
A17: =Intestazioni!C67 -> Reati connessi al possesso o alla detenzione di armi o droga
A18: =Intestazioni!C68 -> derivanti da attività extralavorative non autorizzate (doppio lavoro) | R18: =SUM(B18:Q18) -> 0 | S18: =IF($R$5=0,0,(R18/$R$5)) -> 0
A19: =Intestazioni!C69 -> derivanti da inosservanza di disposizioni di servizio, negligenza, comportamento non corretto verso superiori, colleghi e utenti | R19: =SUM(B19:Q19) -> 0 | S19: =IF($R$5=0,0,(R19/$R$5)) -> 0
A20: =Intestazioni!C70 -> TOTALI | B20: =SUM(B9+B10+B11+B12+B18+B19) -> 0 | C20: =SUM(C9+C10+C11+C12+C18+C19) -> 0 | D20: =SUM(D9+D10+D11+D12+D18+D19) -> 0 | E20: =SUM(E9+E10+E11+E12+E18+E19) -> 0 | F20: =SUM(F9+F10+F11+F12+F18+F19) -> 0 | G20: =SUM(G9+G10+G11+G12+G18+G19) -> 0 | H20: =SUM(H9+H10+H11+H12+H18+H19) -> 0 | I20: =SUM(I9+I10+I11+I12+I18+I19) -> 0 | ... Q20: =SUM(Q9+Q10+Q11+Q12+Q18+Q19) -> 0 | R20: =SUM(R9,R10,R11,R12,R18,R19) -> 0 | S20: =SUM(S9,S10,S11,S12,S18,S19) -> 0
A21: Totale da dettagliare | B21: ='Procedimenti rilevati'!$AB7 -> 0 | C21: ='Procedimenti rilevati'!$AB8 -> 0 | D21: ='Procedimenti rilevati'!$AB11 -> 0 | E21: ='Procedimenti rilevati'!$AB12 -> 0 | F21: ='Procedimenti rilevati'!$AB13 -> 0 | G21: ='Procedimenti rilevati'!$AB14 -> 0 | H21: ='Procedimenti rilevati'!$AB18 -> 0 | I21: ='Procedimenti rilevati'!$AB19 -> 0 | J21: ='Procedimenti rilevati'!$AB20 -> 0 | K21: ='Procedimenti rilevati'!$AB21 -> 0 | L21: ='Procedimenti rilevati'!$AB26 -> 0 | M21: ='Procedimenti rilevati'!$AB27 -> 0 | N21: ='Procedimenti rilevati'!$AB28 -> 0 | O21: ='Procedimenti rilevati'!$AB32 -> 0 | P21: ='Procedimenti rilevati'!$AB33 -> 0 | Q21: ='Procedimenti rilevati'!$AB34 -> 0 | R21: =V21 | U21: =SUM(B21:Q21) -> 0 | V21: =IF(R5=0,"",IF(R5=R20,IF(R22="Dati errati","Revisione necessaria",IF(R20=U21,"Valori congrui","Revisione necessaria")),"Revisione necessaria"))
B22: =IF(B20<>B21,"Dati errati","") | C22: =IF(C20<>C21,"Dati errati","") | D22: =IF(D20<>D21,"Dati errati","") | E22: =IF(E20<>E21,"Dati errati","") | F22: =IF(F20<>F21,"Dati errati","") | G22: =IF(G20<>G21,"Dati errati","") | H22: =IF(H20<>H21,"Dati errati","") | I22: =IF(I20<>I21,"Dati errati","") | ... Q22: =IF(Q20<>Q21,"Dati errati","") | R22: =MID(U22,1,11) | U22: =B22&C22&D22&E22&F22&G22&H22&I22&J22&K22&L22&M22&N22&O22&P22&Q22
A23: ='Procedimenti rilevati'!A38 -> C O M P I L A R E S O L O L E C E L L E D I C O L O R E C E L E S T E
A24: =Intestazioni!C32 -> 1) Funzionari con incarico triennale di DSGA dal 01/09/2024 | F24: =Intestazioni!C33 -> 2) Assistente amministrativo, tecnico, nonché cuoco, infermiere e guardarobiere

Sheet Uffici
B1: Anno inizio | C1: Anno fine | E1: ="Procedimenti disciplinari A.S. "&B3&"/"&C3 -> Procedimenti disciplinari A.S. 2025/2026
F2: ="Monitoraggio anno scolastico "&B3&"/"&C3&" (procedimenti disciplinari dal 1° settembre "&B3&" al 31 agosto "&C3&")" -> Monitoraggio anno scolastico 2025/2026 (procedimenti disciplinari dal 1° settembre 2025 al 31 agosto 2026)
B3: 2025 | C3: 2026 | E3: Denominazione Uffici rilevatori | H3: Abbreviazione Denominazione Uffici rilevatori | I3: Nome File
E4: Ufficio Scolastico Regionale per l'Abruzzo | H4: ABR | I4: =H4&" - Monit. Proc. Disc. A.S. "&$B$3&"-"&$C$3&".xlsx" -> ABR - Monit. Proc. Disc. A.S. 2025-2026.xlsx
E5: Ufficio Scolastico Regionale per la Basilicata | H5: BAS | I5: =H5&" - Monit. Proc. Disc. A.S. "&$B$3&"-"&$C$3&".xlsx" -> BAS - Monit. Proc. Disc. A.S. 2025-2026.xlsx
E6: Ufficio Scolastico Regionale per la Calabria | H6: CAL | I6: =H6&" - Monit. Proc. Disc. A.S. "&$B$3&"-"&$C$3&".xlsx" -> CAL - Monit. Proc. Disc. A.S. 2025-2026.xlsx
E7: Ufficio Scolastico Regionale per la Campania | H7: CAM | I7: =H7&" - Monit. Proc. Disc. A.S. "&$B$3&"-"&$C$3&".xlsx" -> CAM - Monit. Proc. Disc. A.S. 2025-2026.xlsx
E8: Ufficio Scolastico Regionale per l'Emilia Romagna | H8: ERO | I8: =H8&" - Monit. Proc. Disc. A.S. "&$B$3&"-"&$C$3&".xlsx" -> ERO - Monit. Proc. Disc. A.S. 2025-2026.xlsx
E9: Ufficio Scolastico Regionale per il Friuli Venezia Giulia | H9: FVG | I9: =H9&" - Monit. Proc. Disc. A.S. "&$B$3&"-"&$C$3&".xlsx" -> FVG - Monit. Proc. Disc. A.S. 2025-2026.xlsx
E10: Ufficio Scolastico Regionale per il Lazio | H10: LAZ | I10: =H10&" - Monit. Proc. Disc. A.S. "&$B$3&"-"&$C$3&".xlsx" -> LAZ - Monit. Proc. Disc. A.S. 2025-2026.xlsx
E11: Ufficio Scolastico Regionale per la Liguria | H11: LIG | I11: =H11&" - Monit. Proc. Disc. A.S. "&$B$3&"-"&$C$3&".xlsx" -> LIG - Monit. Proc. Disc. A.S. 2025-2026.xlsx
E12: Ufficio Scolastico Regionale per la Lombardia | H12: LOM | I12: =H12&" - Monit. Proc. Disc. A.S. "&$B$3&"-"&$C$3&".xlsx" -> LOM - Monit. Proc. Disc. A.S. 2025-2026.xlsx
E13: Ufficio Scolastico Regionale per le Marche | H13: MAR | I13: =H13&" - Monit. Proc. Disc. A.S. "&$B$3&"-"&$C$3&".xlsx" -> MAR - Monit. Proc. Disc. A.S. 2025-2026.xlsx
E14: Ufficio Scolastico Regionale per il Molise | H14: MOL | I14: =H14&" - Monit. Proc. Disc. A.S. "&$B$3&"-"&$C$3&".xlsx" -> MOL - Monit. Proc. Disc. A.S. 2025-2026.xlsx
E15: Ufficio Scolastico Regionale per il Piemonte | H15: PIE | I15: =H15&" - Monit. Proc. Disc. A.S. "&$B$3&"-"&$C$3&".xlsx" -> PIE - Monit. Proc. Disc. A.S. 2025-2026.xlsx
... E26: Provincia Autonoma di Trento - Dipartimento istruzione e cultura | H26: PAT | I26: =H26&" - Monit. Proc. Disc. A.S. "&$B$3&"-"&$C$3&".xlsx" -> PAT - Monit. Proc. Disc. A.S. 2025-2026.xlsx
E27: Ambito Territoriale di (Città)
E28: Istituzione Scolastica (codice meccanografico e nome Istituto)

Sheet Intestazioni
A1: Scheda | B1: Riferimento | C1: Denominazione
A2: Procedimenti rilevati | B2: A1 | C2: Ufficio rilevatore:
B3: A5 | C3: TIPOLOGIA DI PERSONALE SOTTOPOSTO A PROCEDIMENTO DISCIPLINARE
B4: B5 | C4: Procedimenti disciplinari
B5: H5 | C5: Provvedimenti adottati
B6: B6 | C6: ="Procedimenti disciplinari A.S. "&Uffici!B3&"/"&Uffici!C3 -> Procedimenti disciplinari A.S. 2025/2026
B7: C6 | C7: Procedimenti sospesi per contestuale avvio di procedimento penale
B8: D6 | C8: Media dei giorni tra la data della contestazione degli addebiti e quella dell'eventuale sospensione per avvio del procedimento penale
B9: E6 | C9: Procedimenti conclusi
B10: F6 | C10: Media dei giorni di durata dei procedimenti (dalla data della contestazione alla data del provvedimento conclusivo)
B11: H6 | C11: Sanzioni di minore entità (inferiori alla sospensione dal servizio/insegnamento)
B12: I6 | C12: Sanzioni di sospensione dal servizio/insegnamento fino a 10 giorni
B13: J6 | C13: Sanzioni di maggiore entità (dalla sospensione dal servizio/insegnamento per più di 10 gg. in poi, esclusi i LICENZIAMENTI )
B14: K6 | C14: Licenziamenti
B15: L6 | C15: Archiviazione/proscioglimento
B16: A7 | C16: Dirigenti scolastici e Presidi incaricati
B17: A8
B18: A10 | C18: Docenti di ruolo
B19: A11 - A18 | C19: Scuola dell'infanzia, primaria e personale educativo
B20: A12 - A19 | C20: Scuola secondaria di I grado
B21: A13 - A20 | C21: Scuola secondaria di II grado
B22: A14 - A21 | C22: Insegnanti tecnico pratici
B23: A15 - A22 - A29 - A35 | C23: totale
B24: A37 | C24: TOTALE
B25: A17 | C25: Docenti a tempo determinato
B26: A25 | C26: A.T.A. di ruolo
B27: A26 | C27: Funzionari ed Elevata qualificazione EX DSGA 1)
B28: A27 | C28: Assistenti amministrativi e tecnici 2)
B29: A28 | C29: Collaboratori scolastici e Operatori dei servizi agrari
B30: A31 | C30: A.T.A. a tempo determinato
B31: A28 | C31: =C29 -> Collaboratori scolastici e Operatori dei servizi agrari
B32: A39 | C32: 1) Funzionari con incarico triennale di DSGA dal 01/09/2024
B33: C39 | C33: 2) Assistente amministrativo, tecnico, nonché cuoco, infermiere e guardarobiere
B34: A38 | C34: C O M P I L A R E S O L O L E C E L L E D I C O L O R E C E L E S T E
A35: Infrazioni per sospensioni | B35: A7 | C35: TIPOLOGIA DI PERSONALE
B36: A8 | C36: TIPOLOGIA DI INFRAZIONI
B37: A9 | C37: per assenze dal servizio (ingiustificate, non comunicate nei termini prescritti, etc.)
B38: A10 | C38: connesse a reati
B39: A11 | C39: derivanti da attività extralavorative non autorizzate (doppio lavoro)
B40: A12 | C40: derivanti da irreperibilità a visita fiscale
...
